BEGIN:VCALENDAR
PRODID:-//Microsoft Corporation//Outlook MIMEDIR//EN
VERSION:2.0
METHOD:PUBLISH
BEGIN:VEVENT
DTSTART:20260430T180000
DTEND:20260430T190000
DESCRIPTION:
LOCATION:Public Library 9015 Grand Ave
SUMMARY:Library Board
CATEGORIES:MEETING
END:VEVENT
END:VCALENDAR
